BEGIN:VCALENDAR
VERSION:2.0
PRODID:-//Carers Victoria - ECPv6.15.11//NONSGML v1.0//EN
CALSCALE:GREGORIAN
METHOD:PUBLISH
X-ORIGINAL-URL:https://www.carersvictoria.org.au
X-WR-CALDESC:Events for Carers Victoria
REFRESH-INTERVAL;VALUE=DURATION:PT1H
X-Robots-Tag:noindex
X-PUBLISHED-TTL:PT1H
BEGIN:VTIMEZONE
TZID:Australia/Melbourne
BEGIN:STANDARD
TZOFFSETFROM:+1100
TZOFFSETTO:+1000
TZNAME:AEST
DTSTART:20240406T160000
END:STANDARD
BEGIN:DAYLIGHT
TZOFFSETFROM:+1000
TZOFFSETTO:+1100
TZNAME:AEDT
DTSTART:20241005T160000
END:DAYLIGHT
BEGIN:STANDARD
TZOFFSETFROM:+1100
TZOFFSETTO:+1000
TZNAME:AEST
DTSTART:20250405T160000
END:STANDARD
BEGIN:DAYLIGHT
TZOFFSETFROM:+1000
TZOFFSETTO:+1100
TZNAME:AEDT
DTSTART:20251004T160000
END:DAYLIGHT
BEGIN:STANDARD
TZOFFSETFROM:+1100
TZOFFSETTO:+1000
TZNAME:AEST
DTSTART:20260404T160000
END:STANDARD
BEGIN:DAYLIGHT
TZOFFSETFROM:+1000
TZOFFSETTO:+1100
TZNAME:AEDT
DTSTART:20261003T160000
END:DAYLIGHT
END:VTIMEZONE
BEGIN:VEVENT
DTSTART;TZID=Australia/Melbourne:20251012T120000
DTEND;TZID=Australia/Melbourne:20251012T140000
DTSTAMP:20260426T061354
CREATED:20251003T010522Z
LAST-MODIFIED:20251003T010522Z
UID:10001753-1760270400-1760277600@www.carersvictoria.org.au
SUMMARY:Lunch for current unpaid disability and mental health carers: National Carers Week 2025
DESCRIPTION:Carers Saturday Cuppa and Chat and Carers Victoria invite you to a relaxing lunch to celebrate Carers Week\, funded by Carers Victoria. \n  \n 
URL:https://www.carersvictoria.org.au/event/lunch-for-current-unpaid-disability-and-mental-health-carers-national-carers-week-2025/
LOCATION:Templestowe Hotel\, 23 Parker Street\,\, Lower Templestowe\, Victoria\, 3107\, Australia
CATEGORIES:Carer Groups,Events for Carers,National Carers Week
ORGANIZER;CN="Carers Saturday Cuppa and Chat":MAILTO:nakisam2001@yahoo.com.au
GEO:-37.7563119;145.1175016
X-APPLE-STRUCTURED-LOCATION;VALUE=URI;X-ADDRESS=Templestowe Hotel 23 Parker Street Lower Templestowe Victoria 3107 Australia;X-APPLE-RADIUS=500;X-TITLE=23 Parker Street\,:geo:145.1175016,-37.7563119
END:VEVENT
END:VCALENDAR