BEGIN:VCALENDAR
VERSION:2.0
PRODID:-//Carers Victoria - ECPv6.15.11//NONSGML v1.0//EN
CALSCALE:GREGORIAN
METHOD:PUBLISH
X-WR-CALNAME:Carers Victoria
X-ORIGINAL-URL:https://www.carersvictoria.org.au
X-WR-CALDESC:Events for Carers Victoria
REFRESH-INTERVAL;VALUE=DURATION:PT1H
X-Robots-Tag:noindex
X-PUBLISHED-TTL:PT1H
BEGIN:VTIMEZONE
TZID:Australia/Melbourne
BEGIN:STANDARD
TZOFFSETFROM:+1100
TZOFFSETTO:+1000
TZNAME:AEST
DTSTART:20240406T160000
END:STANDARD
BEGIN:DAYLIGHT
TZOFFSETFROM:+1000
TZOFFSETTO:+1100
TZNAME:AEDT
DTSTART:20241005T160000
END:DAYLIGHT
BEGIN:STANDARD
TZOFFSETFROM:+1100
TZOFFSETTO:+1000
TZNAME:AEST
DTSTART:20250405T160000
END:STANDARD
BEGIN:DAYLIGHT
TZOFFSETFROM:+1000
TZOFFSETTO:+1100
TZNAME:AEDT
DTSTART:20251004T160000
END:DAYLIGHT
BEGIN:STANDARD
TZOFFSETFROM:+1100
TZOFFSETTO:+1000
TZNAME:AEST
DTSTART:20260404T160000
END:STANDARD
BEGIN:DAYLIGHT
TZOFFSETFROM:+1000
TZOFFSETTO:+1100
TZNAME:AEDT
DTSTART:20261003T160000
END:DAYLIGHT
END:VTIMEZONE
BEGIN:VEVENT
DTSTART;TZID=Australia/Melbourne:20251010T100000
DTEND;TZID=Australia/Melbourne:20251010T123000
DTSTAMP:20260420T003233
CREATED:20250914T230715Z
LAST-MODIFIED:20250914T230715Z
UID:10001618-1760090400-1760099400@www.carersvictoria.org.au
SUMMARY:Blackburn National Carers Week Relax & Renew Massage Session: National Carers Week 2025
DESCRIPTION:Celebrate National Carers Week with a rejuvenating massage designed to help you relax and recharge. Afterwards\, enjoy a complimentary morning tea with fellow carers. \nAbout MyTime: MyTime is a peer support program for parents and carers of children with disabilities\, developmental delays\, or chronic medical conditions. It offers connection\, support\, and resources in a safe and welcoming space. \nEligibility: Open to parents and carers of children up to 18 years of age with disability\, developmental delay\, or chronic medical conditions. \nRSVP: Spaces are limited—registration is essential.
URL:https://www.carersvictoria.org.au/event/blackburn-national-carers-week-relax-renew-massage-session-national-carers-week-2025/
LOCATION:One Community Church\, 184 Surrey Road\, Blackburn\, Victoria\, 3130\, Australia
CATEGORIES:Carer Groups,Disability,Events for carers,National Carers Week
ATTACH;FMTTYPE=image/png:/wp-content/uploads/2025/09/MyTime-scaled.png
ORGANIZER;CN="MyTime Facilitator - Sarah":MAILTO:sarahl@mytimevic.com.au ​
GEO:-37.8155758;145.1561613
X-APPLE-STRUCTURED-LOCATION;VALUE=URI;X-ADDRESS=One Community Church 184 Surrey Road Blackburn Victoria 3130 Australia;X-APPLE-RADIUS=500;X-TITLE=184 Surrey Road:geo:145.1561613,-37.8155758
END:VEVENT
END:VCALENDAR